BEGIN:VCALENDAR
VERSION:2.0
PRODID:-//True American Fun - ECPv6.15.20//NONSGML v1.0//EN
CALSCALE:GREGORIAN
METHOD:PUBLISH
X-ORIGINAL-URL:https://trueamericanfun.com
X-WR-CALDESC:Events for True American Fun
REFRESH-INTERVAL;VALUE=DURATION:PT1H
X-Robots-Tag:noindex
X-PUBLISHED-TTL:PT1H
BEGIN:VTIMEZONE
TZID:America/New_York
BEGIN:DAYLIGHT
TZOFFSETFROM:-0500
TZOFFSETTO:-0400
TZNAME:EDT
DTSTART:20230312T070000
END:DAYLIGHT
BEGIN:STANDARD
TZOFFSETFROM:-0400
TZOFFSETTO:-0500
TZNAME:EST
DTSTART:20231105T060000
END:STANDARD
BEGIN:DAYLIGHT
TZOFFSETFROM:-0500
TZOFFSETTO:-0400
TZNAME:EDT
DTSTART:20240310T070000
END:DAYLIGHT
BEGIN:STANDARD
TZOFFSETFROM:-0400
TZOFFSETTO:-0500
TZNAME:EST
DTSTART:20241103T060000
END:STANDARD
BEGIN:DAYLIGHT
TZOFFSETFROM:-0500
TZOFFSETTO:-0400
TZNAME:EDT
DTSTART:20250309T070000
END:DAYLIGHT
BEGIN:STANDARD
TZOFFSETFROM:-0400
TZOFFSETTO:-0500
TZNAME:EST
DTSTART:20251102T060000
END:STANDARD
END:VTIMEZONE
BEGIN:VEVENT
DTSTART;TZID=America/New_York:20241005T180000
DTEND;TZID=America/New_York:20241005T220000
DTSTAMP:20260422T192901
CREATED:20240930T040332Z
LAST-MODIFIED:20241006T163749Z
UID:10000004-1728151200-1728165600@trueamericanfun.com
SUMMARY:Let's Take a Break & Have Some Fun
DESCRIPTION:     \nLet’s take a small break from campaigning and have some fun…. True American Fun! Enjoy dinner\, live music and fun with like-minded people at the Pavilion Grille in Boca Raton. There venue requires a $25 minimum spend per person on food and drinks\, plus the have a 20% service fee (we are not charging anything for this event) and you MUST have a ticket if you want a seat\, because we only have 40 seats available. The tickets are FREE. Please follow the directions below to get your ticket. \n–>  Our ticketing software is not working properly\, so please follow these directions to make sure you get your tickets. \n\nDisregard the gibberish below where you fill in name and email\, but do enter the name and email of each attendee.\nWhen you click “Place Order” WAIT AS LONG AS IT TAKES. Sometimes it takes a really really long time\, but it will eventually bring you to a confirmation page. That’s how you know you got tickets! (If you don’t get the confirmation page\, you are NOT on the list\, so please wait for it.)\n\nYou will not get an email confirmation\, but you don’t need one. Once you reach the confirmation page\, you will have been added to our list. (That part is working great!)\nYou do not need a paper ticket. We will have a list\, using the names you entered in Step 1 above.\nBy getting a ticket you are acknowledging that the venue has a $25 per person minimum plus a 20% service fee.\nIf you can’t make it\, please contact us so we can open up your ticket for someone else.\n\nThe fun begins at 6pm\, and please don’t arrive any earlier. We will stager our orders so we don’t overwhelm the kitchen\, because we want to be invited back. Get your free ticket now to reserve your seat! Come anytime after 6pm\, prepared to eat\, drink and have fun… True American Fun!
URL:https://trueamericanfun.com/event/10-05-24/
LOCATION:Pavilion Grille\, 301 Yamato Rd #1201\, Boca Raton\, FL\, 33431\, United States
END:VEVENT
END:VCALENDAR